BEGIN:VCALENDAR
VERSION:2.0
PRODID:-//Rachel Carey - ECPv6.15.20//NONSGML v1.0//EN
CALSCALE:GREGORIAN
METHOD:PUBLISH
X-WR-CALNAME:Rachel Carey
X-ORIGINAL-URL:https://rachelcarey.au
X-WR-CALDESC:Events for Rachel Carey
REFRESH-INTERVAL;VALUE=DURATION:PT1H
X-Robots-Tag:noindex
X-PUBLISHED-TTL:PT1H
BEGIN:VTIMEZONE
TZID:Australia/Sydney
BEGIN:STANDARD
TZOFFSETFROM:+1100
TZOFFSETTO:+1000
TZNAME:AEST
DTSTART:20240406T160000
END:STANDARD
BEGIN:DAYLIGHT
TZOFFSETFROM:+1000
TZOFFSETTO:+1100
TZNAME:AEDT
DTSTART:20241005T160000
END:DAYLIGHT
BEGIN:STANDARD
TZOFFSETFROM:+1100
TZOFFSETTO:+1000
TZNAME:AEST
DTSTART:20250405T160000
END:STANDARD
BEGIN:DAYLIGHT
TZOFFSETFROM:+1000
TZOFFSETTO:+1100
TZNAME:AEDT
DTSTART:20251004T160000
END:DAYLIGHT
BEGIN:STANDARD
TZOFFSETFROM:+1100
TZOFFSETTO:+1000
TZNAME:AEST
DTSTART:20260404T160000
END:STANDARD
BEGIN:DAYLIGHT
TZOFFSETFROM:+1000
TZOFFSETTO:+1100
TZNAME:AEDT
DTSTART:20261003T160000
END:DAYLIGHT
END:VTIMEZONE
BEGIN:VEVENT
DTSTART;TZID=Australia/Sydney:20250711T100000
DTEND;TZID=Australia/Sydney:20250711T113000
DTSTAMP:20260420T191311
CREATED:20240731T061758Z
LAST-MODIFIED:20250630T004147Z
UID:3613-1752228000-1752233400@rachelcarey.au
SUMMARY:Webinar - Mindful Leadership: Elevate Your State
DESCRIPTION:This session has been designed specifically with NDIS leaders in mind focused on elevating presence\, clarity and impact in the everyday intensity of care-based leadership. Let me know if there’s anything you’d like refined or added\, otherwise I’ll work towards finalising the workbook and materials. Webinar: Mindful Leadership – Elevate Your StateA 90-minute interactive experience designed to help leaders: Understand what mindful leadership is (and what it isn’t)Reflect on how they’re currently leading and why it mattersReconnect with grounded leadership presence in the face of pressure\, people\, and performance demandsLeave with a clearer sense of how to lead mindfully\, from regulation\, not reaction and what that looks like in practice.Webinar Structure1. What Is Mindful Leadership?What does it mean to lead mindfully in the NDIS space?Key traits\, common myths\, and sector-specific relevance2. The Modern Leader’s ChallengeAlways on\, emotionally overloaded\, and overstretched – how leaders disconnect from body\, purpose\, and people.Performance vs PresenceThe emotional labour of care + the operational intensity of the NDIS sectorHow unprocessed stress becomes unconscious leadershipPillar One: Presence – The Regulated LeaderFocus: Nervous system awareness\, grounding\, and self-attunementAnchoring question: What’s the state I’m in right now and how is that affecting my reactions?Outcomes: Leaders reconnect with a stable internal state so they can lead from groundedness\, not reactivity Nervous system literacy: sympathetic vs parasympatheticSomatic awareness: signs of dysregulationAnchors: breath\, feet\, physical cues to “lead with pause”Pillar Two: Clarity – Seeing Through the NoiseFocus: Emotional literacy\, internal leadership\, and choice-makingAnchoring question: What part of me is leading right now?Outcomes: Greater emotional intelligence\, clearer inner guidance\, stronger decision-making Naming → Normalising → Navigating emotional statesDrama Triangle vs Empowerment DynamicInner check-ins: What’s mine? What’s needed?Pillar Three: Impact – Leading from the Inside OutFocus: Energetic influence\, boundaries\, and psychological safetyAnchoring question: How does my state shape the people around me?Outcomes: Cultures of co-regulation\, trust\, and responsiveness Leading by state\, not scriptCompassionate boundaries + emotional repairPractical: Responding vs Reacting as a leaderIntegration & ReflectionMicro-practice integrationQ&A / discussion / space for insight and inner alignmentWhat’s Included90-minute live facilitation (interactive + reflective)A custom-designed participant workbook with space for live journaling and notesVisual leadership tools for post-session integration\, including:“Respond vs React” cheat sheet“Above/Below the Line” visualDrama Triangle reframed as Coach/Creator/Challenger modelA printable summary of the 3 Pillars of Mindful LeadershipBonus Integration Pack for AttendeesTo support post-session reflection\, I would love to also provide attendees with: Self + team reflection promptsA short guided regulation meditation / hypnosis track to re-anchor during high-pressure momentsAn opportunity to book a complimentary 15-minute check-in or therapy-style session Secure Your Spot
URL:https://rachelcarey.au/event/webinar-mindful-leadership-elevate-your-state-2/
LOCATION:Online Webinar via Microsoft Teams
CATEGORIES:Webinars
ATTACH;FMTTYPE=image/png:https://rachelcarey.au/wp-content/uploads/2024/07/Mindful-Leadership-Elevate-Your-State-Web-Banner-1.png
END:VEVENT
END:VCALENDAR